BEGIN:VCALENDAR
VERSION:2.0
PRODID:ics.py - http://git.io/lLljaA
BEGIN:VEVENT
DESCRIPTION:Tomás Doncker &amp\; The True Groove All-Stars present Endangered\, a live music\, multi-sensory installation performance steeped in 21st Century Psychedelic Soul. Endangered premieres at the Colorado Springs Fine Arts Center on June 17\, as an intimate site-specific performance in the Floyd D. Tunson: Hearts and Minds exhibition\, with an encore performance on June 18th. \n\nInspired by the Afro-Futuristic and politically charged artworks of Colorado’s own Floyd D. Tunson and powered by lyrics from Pulitzer Prize winning poet Yusef Komunyakaa\, Tomás Doncker and The True Groove All-Stars chart a sonic journey to freedom\, a modern day revolution of the mind.\n\nPURCHASE TICKETS TO SATURDAY\, JUNE 18 PERFORMANCE This event is open to the general public.  https://www.coloradocollege.edu/newsevents/calendar/details.html?EventID=48770&amp\;booking=1SEQUENCE:0\n\nhttps://today.coloradocollege.edu/events/4626
DTEND:20220619T010000Z
LOCATION:FAC El Pomar Gallery - inside the Fine Arts Center\, 30 W. Dale St.
DTSTART:20220619T000000Z
SUMMARY:Dance Performance\, ''Endangered''
UID:ab9932d4-c797-46f9-8143-d71e22e86cb4
END:VEVENT
END:VCALENDAR