BEGIN:VCALENDAR
VERSION:2.0
PRODID:ics.py - http://git.io/lLljaA
BEGIN:VEVENT
DESCRIPTION:The CC Pantry is collecting reusable bags to give them to students who are experiencing food insecurity. Consider giving a couple of reusable bags a new home to help us cut down on our plastic usage. A drop-off donation box can be found on the main floor of Worner until July 1. (After July 1 you may drop off bags at the CC Pantry shelf in the Worner Basement.) Email awerkmeister@coloradocollege.edu with questions.\n\nhttps://today.coloradocollege.edu/events/4629
DTEND:20220623T050000Z
LOCATION:Worner Fireside
DTSTART:20220622T060000Z
SUMMARY:Donate reusable bags!
UID:9ac93b36-00a3-4a26-bab0-0118eccf6a05
END:VEVENT
END:VCALENDAR