BEGIN:VCALENDAR
VERSION:2.0
PRODID:ics.py - http://git.io/lLljaA
BEGIN:VEVENT
DESCRIPTION:The Office of Campus Activities is excited to host a Pool Day at a private\, heated pool in downtown COS with mountain views! \nPlease bring your own towel\, sunscreen\, floatation devices\, pool toys\, or books to read.\n\n\n\nWe will have a few pool noodles and floaties available for your use.\nYou may bring your water bottle but no other external food or drink is permitted and no alcohol is allowed at this event.\n\n\n\n We will be providing lunch for the 1st 30 people who arrive!\n\n<a href="https://forms.office.com/Pages/ResponsePage.aspx?id=PLHHz5YSh0OzCF3gj9E8maxzDmMDGdROtuSdWvx1RU5UQlZYRVVMWk02V0RPQ0lFUTRRTVBPWE5MRC4u&amp\;fbclid=IwAR0DZLRfk_S-HuPxtZosXkVuichu1HPX4F4cBThN2nu1Vg-uEgl5K0lNebU">For more details and to register\, use this link</a>.\n\nhttps://today.coloradocollege.edu/events/4636
DTEND:20220624T223000Z
LOCATION:Students will be sent the location the day before the event
DTSTART:20220624T183000Z
SUMMARY:Summer A Block Pool Day
UID:c52b777f-20cd-4db5-83d0-919e08ce92e2
END:VEVENT
END:VCALENDAR