BEGIN:VCALENDAR
VERSION:2.0
PRODID:ics.py - http://git.io/lLljaA
BEGIN:VEVENT
DESCRIPTION:Our popular Libation Lectures are back!\nLibation Lectures offer an educational twist to the traditional happy hour. Each lecture will explore an aspect of the amazing art and featured artists from various Fine Arts Center exhibitions served up with a themed drink to help you dive deep into the topic. \n\nOur first lecture is "The Divine Within: La Virgen de Guadalupe\, Spirituality\, and Panocha Politics" on Thursday\, June 30\, 5:30-6:30 p.m. at the FAC (Bar opens at 5 p.m.)\n\n\nCoinciding with <a href="https://fac.coloradocollege.edu/exhibits/where-the-saint-lives/">Where the Saint Lives</a>\, an exhibition currently on view at the FAC\, join us for our first Libation Lecture of 2022. La Virgen de Guadalupe\, the patron saint of Mexico and goddess of the Americas\, has generated reflection on the question of our divine and corporeal being for over 500 years. Learn why and how artists and writers continually invoke the image of La Virgen de Guadalupe in their work. Who is she? Why is she revered? Why is it that she is depicted everywhere from churches\, museums\, and murals\, to t-shirts\, coffee mugs\, and tattoos?\n\nDuring the lecture\, we’ll also be playing Lotería\, a bingo-like game that uses culturally significant images and has been played throughout Mexico for hundreds of years. You might even win a prize!\n\n\nThemed drink: Paloma\nLecturer: Nancy Rios\, PhD\; Program Director\, CC Mobile Arts\n10$ for FAC Members\, $15 for non-members\, includes your first drink\n<a href="https://coloradospringsfineartscenter.secure.force.com/ticket/#/instances/a0F4w00001mkclHEAQ">Buy tickets</a>\n\nCC faculty and staff get 50% off fully priced memberships to the Fine Arts Center. Bring your Gold Card to our front desk or call (719) 634-5583 to sign up.\n\nhttps://today.coloradocollege.edu/events/4637
DTEND:20220701T003000Z
LOCATION:Fine Arts Center
DTSTART:20220630T233000Z
SUMMARY:Libation Lecture at the FAC 
UID:ea290dd6-608f-4cea-b8f1-b57465113fb3
END:VEVENT
END:VCALENDAR