BEGIN:VCALENDAR
VERSION:2.0
PRODID:ics.py - http://git.io/lLljaA
BEGIN:VEVENT
DESCRIPTION:Have questions about NSO? Want to know how you or your office can help or participate? Please join the NSO and Priddy Planning team to get a high-level overview of the schedule\, learn about volunteer opportunities\, and have your questions answered.\n\nThursday\, August 11\, 3 - 4 pm\nMeeting will take place on Zoom! <a href="https://coloradocollege.zoom.us/j/92280781801">https://coloradocollege.zoom.us/j/92280781801</a>\n\nEmail Orientation (orientation@coloradocollege.edu) to have the calendar/meeting invite forwarded to you.\n\nhttps://today.coloradocollege.edu/events/4657
DTEND:20220811T220000Z
LOCATION:https://coloradocollege.zoom.us/j/92280781801
DTSTART:20220811T210000Z
SUMMARY:Campus Presentation: What You Need to Know about NSO
UID:8a62c574-c49f-4aa4-86f7-d1df95ff5009
END:VEVENT
END:VCALENDAR