BEGIN:VCALENDAR
VERSION:2.0
PRODID:ics.py - http://git.io/lLljaA
BEGIN:VEVENT
DESCRIPTION:Join us for the next stop in our new FAC happy hour series celebrating the “liquid arts.” No formal programming involved\, just a casual gathering of FAC supporters getting out to socialize in new and different venues across our beautiful city. Highlighting local bars and restaurants in town\, we hope to see you August 11 at <a href="https://www.homacafe.com/">Homa Cafe &amp\; Bar</a> at Kinship Landing.\n\nFAC members and theatre season subscribers will receive extended happy hour specials during the event: $2 kinship lagers\, $2 off drafts\, $6 house wine\, and $5 well spirits. Just stop by the FAC table at the event to pick up a discount ticket.\n\nEvent location: <a href="https://www.google.com/maps/place/Homa+at+Kinship+Landing/@38.8275335\,-104.8216079\,15z/data=!4m5!3m4!1s0x0:0xc78a2bc938e351cd!8m2!3d38.8275335!4d-104.8216079">415 S Nevada Ave</a> (Kinship Landing Hotel). We’ll also be handing out FAC museum admission passes\, so bring a friend!\nNo RSVP needed\n\nhttps://today.coloradocollege.edu/events/4663
DTEND:20220812T010000Z
LOCATION:Homa Cafe and Bar
DTSTART:20220811T230000Z
SUMMARY:FAC Happy Hour at Homa Cafe & Bar
UID:940083c2-8c53-4637-8d3a-55d9396cce29
END:VEVENT
END:VCALENDAR