BEGIN:VCALENDAR
VERSION:2.0
PRODID:ics.py - http://git.io/lLljaA
BEGIN:VEVENT
DESCRIPTION:Join the Film and Media Studies program as we screen student films and clips created during their Summer 22 Block C course with visiting faculty and film editor Jacob Bricca.\n\nhttps://today.coloradocollege.edu/events/4672
DTEND:20220813T020000Z
LOCATION:Cornerstone 131 (Screening Room)
DTSTART:20220813T010000Z
SUMMARY:Student Film Screening
UID:16cf0dcd-ec5f-4f2e-abb8-ac783202a21f
END:VEVENT
END:VCALENDAR