BEGIN:VCALENDAR
VERSION:2.0
PRODID:ics.py - http://git.io/lLljaA
BEGIN:VEVENT
DESCRIPTION:On Thursdays\, there will be a weekly food pantry from 9:30am-11am in the Worner basement (the old mailroom). Students are invited to come to get some dried goods\, fresh produce\, and snacks for the week. Brought to you by Campus Activities with support from CCSGA. Students must sign up using <a href="https://www.signupgenius.com/go/ccpantry">SignUpGenius</a> and arrive at the correct time. This will be a weekly initiative moving forward brought to you by Campus Activities and CCSGA.\n\nQuestions? Email <a href="mailto:awerkmeister@coloradocollege.edu">awerkmeister@coloradocollege.edu</a> \n\nThis is a student activity. This event is not open to the general public.\n\nhttps://today.coloradocollege.edu/events/4738
DTEND:20221124T180000Z
LOCATION:CC Pantry Exchange
DTSTART:20221124T163000Z
SUMMARY:CC Food Pantry
UID:d46c974a-c7bf-4778-93b7-a225ea0b0a9c
END:VEVENT
END:VCALENDAR