BEGIN:VCALENDAR
VERSION:2.0
PRODID:ics.py - http://git.io/lLljaA
BEGIN:VEVENT
DESCRIPTION:Come play Rugby This event is not open to the general public.  https://www.coloradocollege.edu/newsevents/calendar/details.html?EventID=50292&amp\;booking=11SEQUENCE:0\n\nhttps://today.coloradocollege.edu/events/4759
DTEND:20221025T010000Z
LOCATION: - 
DTSTART:20221024T230000Z
SUMMARY:Rugby Club Practice
UID:2ad0e572-ce4f-47e7-b0da-2d6ab2279f47
END:VEVENT
END:VCALENDAR