BEGIN:VCALENDAR
VERSION:2.0
PRODID:ics.py - http://git.io/lLljaA
BEGIN:VEVENT
DESCRIPTION:Come play Rugby This event is not open to the general public.  https://www.coloradocollege.edu/newsevents/calendar/details.html?EventID=50292&amp\;booking=18SEQUENCE:0\n\nhttps://today.coloradocollege.edu/events/4766
DTEND:20221116T020000Z
LOCATION: - 
DTSTART:20221116T000000Z
SUMMARY:Rugby Club Practice
UID:42a3dfee-3518-4a1f-9345-5d0da9fd1f80
END:VEVENT
END:VCALENDAR