BEGIN:VCALENDAR
VERSION:2.0
PRODID:ics.py - http://git.io/lLljaA
BEGIN:VEVENT
DESCRIPTION:Coed Ultimate Frisbee Practice This event is open to the general public.  https://www.coloradocollege.edu/newsevents/calendar/details.html?EventID=50249&amp\;booking=7SEQUENCE:0\n\nhttps://today.coloradocollege.edu/events/4796
DTEND:20221024T000000Z
LOCATION: - 
DTSTART:20221023T220000Z
SUMMARY:Space Camp Practice
UID:c1b4facf-6953-48f8-b2f2-e58f60dcd436
END:VEVENT
END:VCALENDAR