BEGIN:VCALENDAR
VERSION:2.0
PRODID:ics.py - http://git.io/lLljaA
BEGIN:VEVENT
DESCRIPTION:\nOur CC Global Outreach (GO) Team of study abroad peer advisors will be presenting on their varied study abroad experiences around the world\, and studying abroad within a variety of majors\, academic terms\, and types of programs abroad! Come eat pizza\, listen to them tell about a typical "day in the life" on their program\, and hear directly from your fellow students about your own options for studying abroad! There is a corresponding session (with different peer advisors and different programs represented) from the session <a href="events/4831">on September 8</a>. Please join us!\n\nhttps://today.coloradocollege.edu/events/4832
DTEND:20220929T194500Z
LOCATION:South Commons
DTSTART:20220929T181500Z
SUMMARY:"A Day-In-My-Life Studying Abroad": A Peer Advisor Experiences Panel/Q&A
UID:2c5a5f03-8779-4e20-81d0-5eb5caf0accb
END:VEVENT
END:VCALENDAR