BEGIN:VCALENDAR
VERSION:2.0
PRODID:ics.py - http://git.io/lLljaA
BEGIN:VEVENT
DESCRIPTION:September 9 - Doors open at 5pm\, performance starts at 5:30pm\nExperience an Afro-Cuban dance performance by Yesenia Selier accompanied by the Cuban Bata drummer Miguelo Valdés to celebrate the opening of <a href="https://fac.coloradocollege.edu/exhibits/breathe-into-the-past-crosscurrents-in-the-caribbean/">Breathe into the past: Crosscurrents in the Caribbean</a>. \nPerformance begins at 5:30 p.m.\n\nEvent is free\, please RSVP <a href="https://coloradospringsfineartscenter.secure.force.com/ticket/?_ga=2.4782384.2011317444.1662404482-1419190449.1657644503#/instances/a0F4w00001ml2GfEAI">here</a>.\n\nhttps://today.coloradocollege.edu/events/4838
DTEND:20220910T000000Z
LOCATION:Fine Arts Center
DTSTART:20220909T230000Z
SUMMARY:Breathe into the Past: Crosscurrents in the Caribbean Opening Performance
UID:4dcd8149-cf00-4ab3-a26a-0dcd172d3ec9
END:VEVENT
END:VCALENDAR