BEGIN:VCALENDAR
VERSION:2.0
PRODID:ics.py - http://git.io/lLljaA
BEGIN:VEVENT
DESCRIPTION:The FAC Museum team is hosting a gallery walk of our newest exhibition Breathe into the Past: Crosscurrents in the Caribbean. Please join us on Thursday\, September 8 from 3:00-4:00pm for a special preview of the show. During this time\, Museum staff will share the context of the exhibition\, provide opportunities for interdisciplinary engagements\, and take you on a behind-the-scenes look at how the show came together. All Colorado College staff and faculty are invited to attend this gallery walk. \n\nBreathe into the Past: Crosscurrents in the Caribbean opens to the public on Friday\, September 9 and runs through January 29\, 2023. To learn more about the exhibition\, click <a href="https://fac.coloradocollege.edu/exhibits/breathe-into-the-past-crosscurrents-in-the-caribbean/">here</a>. \n\nIf you are interested in attending\, we will gather in the FAC lobby at 3pm on Thursday. No need to RSVP. If you have questions\, please contact Alie Ehrensaft at aehrensaft@coloradocollege.edu.\n\nhttps://today.coloradocollege.edu/events/4841
DTEND:20220908T220000Z
LOCATION:Fine Arts Center
DTSTART:20220908T210000Z
SUMMARY:Gallery Walk | Breathe into the Past: Crosscurrents in the Caribbean
UID:0182bd4e-72e1-4b40-83cd-ececf4fc2a43
END:VEVENT
END:VCALENDAR