BEGIN:VCALENDAR
VERSION:2.0
PRODID:ics.py - http://git.io/lLljaA
BEGIN:VEVENT
DESCRIPTION:\nCurious about theatre as a career? Interested in relocating to NYC but unsure where to start? Attend this meet and greet event with CC alum Wes Braver from 1-3 p.m. Friday\, Sept. 9\, in the Cornerstone Flex Room for an afternoon of creative advice. \n\nHe will share the success stories and trial experiences of his and friends through a piano performance that will remind you of “Tick\, Tick\, Boom.” Afterward\, you will have an opportunity to gain insight on the theatre business and life in NYC through a Q &amp\; A session.\n\nWes (’14) is CC alum who has worked a variety of musical theatre jobs in NYC\, most recently creating the musical retelling of Medusa from her perspective through the lens of the #MeToo movement. He has also scored many CC videos\, including the history of the block plan.\n\nhttps://today.coloradocollege.edu/events/4842
DTEND:20220909T210000Z
LOCATION:Cornerstone 130 (Flex Room)
DTSTART:20220909T190000Z
SUMMARY:How to Pursue a Career in Theatre & Music in NYC
UID:5dd883d5-1134-4d3b-b73d-f1a436596c3a
END:VEVENT
END:VCALENDAR