BEGIN:VCALENDAR
VERSION:2.0
PRODID:ics.py - http://git.io/lLljaA
BEGIN:VEVENT
DESCRIPTION:An invitation to pause for a gentle Qigong practice.  Qigong is a meditative movement practice that cultivates and moves energy in the body through movement\, sound\, visualizaiton and meditation for greater health and wellbeing. Through simple movements we will open to the flow of energy within and all around us. No experence is necessray. 12:30-1:15 p.m. in Shove Chapel.\n\nhttps://today.coloradocollege.edu/events/4851
DTEND:20220908T191500Z
LOCATION:Shove Memorial Chapel
DTSTART:20220908T183000Z
SUMMARY:Qigong - Thursday 12:30 p.m.
UID:cd235cbe-566c-43d6-b845-0dda247a0bd2
END:VEVENT
END:VCALENDAR