BEGIN:VCALENDAR
VERSION:2.0
PRODID:ics.py - http://git.io/lLljaA
BEGIN:VEVENT
DESCRIPTION:Stop by and enjoy community\, popsicles\, and space to pause Friday between 3-4:15 p.m. in front of Shove Chapel. Sponsored by the Chaplain's Office.\n\nhttps://today.coloradocollege.edu/events/4852
DTEND:20220909T221500Z
LOCATION:Shove Memorial Chapel
DTSTART:20220909T210000Z
SUMMARY:Popsicles\, Community\, and Pause - Friday 3-4:15 p.m. 
UID:8b8d8022-f902-4771-a569-82d5bd8b4641
END:VEVENT
END:VCALENDAR