BEGIN:VCALENDAR
VERSION:2.0
PRODID:ics.py - http://git.io/lLljaA
BEGIN:VEVENT
DESCRIPTION:Come out for ASU/KASA's first general meeting! There will be snacks\, drinks\, as well as lantern making to celebrate Mid Autumn Festival. We will introduce this years board and get to know eachother. See you then!\n\nhttps://today.coloradocollege.edu/events/4858
DTEND:20220909T003000Z
LOCATION:Bemis Great Hall
DTSTART:20220908T223000Z
SUMMARY:Asian Student Union General Meeting
UID:576e03fa-7179-4d1a-a955-affd04f2e095
END:VEVENT
END:VCALENDAR