BEGIN:VCALENDAR
VERSION:2.0
PRODID:ics.py - http://git.io/lLljaA
BEGIN:VEVENT
DESCRIPTION:\n\nhttps://today.coloradocollege.edu/events/4859
DTEND:20220909T040000Z
LOCATION:Worner Quad
DTSTART:20220909T000000Z
SUMMARY:Orishas dance workshop with Yesenia Selier! 
UID:4cd6cede-50d2-4811-80a3-6e3cdf070671
END:VEVENT
END:VCALENDAR