BEGIN:VCALENDAR
VERSION:2.0
PRODID:ics.py - http://git.io/lLljaA
BEGIN:VEVENT
DESCRIPTION:Come gather in community and celebrate the full moon at 8pm on Friday at the Labyrinth (next to Shove Chapel). Enjoy a simple ritual and creative expression to move energy with Spiral Fellow Camila. Connect with earth-based\, Wiccan\, and energetic practices. Contact Camila at c_espinosashort@coloradocollege for more information or if you have any questions.\n\n\n\nhttps://today.coloradocollege.edu/events/4861
DTEND:20220910T030000Z
LOCATION:Labyrinth
DTSTART:20220910T020000Z
SUMMARY:Full Moon Gathering
UID:a0519e0f-6b30-452b-8095-fe304f7be42b
END:VEVENT
END:VCALENDAR