BEGIN:VCALENDAR
VERSION:2.0
PRODID:ics.py - http://git.io/lLljaA
BEGIN:VEVENT
DESCRIPTION:\n\n\n\n\n\n\n\n\n\n\n\n\n\n\n\n\n\nDialogue across Difference Sep 29\, 2022 3:30pm-5:00pm\n\n \n\n\n\n\n\n\n\n\n\n\n\n\n\n\n\n\n\n(CCE House (1008 N. Weber St.))\n\n \n\n\n\n\n\n\n\n\n\n\n\n\n\n\n\n\n\n\n\n\n\n\n\n\n\n\n\n\nIn this workshop\, students will explore the following questions:(1) How can I effectively dialogue with others with different perspectives and worldviews? How can I balance authenticity and commitment with seeking to find common ground?(2) Why is dialoguing across difference important to community-building and social change? (3) When do I: listen\, engage\, advocate\, or walk away?\n\n<a href="https://apps.ideal-logic.com/cce?key=29L66-D685_K9KH-5PTF_dd85fc4dd6b3">RSVP Here</a>\n\n\n\n\nhttps://today.coloradocollege.edu/events/4906
DTEND:20220929T230000Z
LOCATION:CCE House (1008 N. Weber St.)
DTSTART:20220929T213000Z
SUMMARY:Dialogue Across Difference (CCE Third Year Changemaker Workshop)
UID:f1e85b9f-1817-421b-abf3-9059470df1f1
END:VEVENT
END:VCALENDAR