BEGIN:VCALENDAR
VERSION:2.0
PRODID:ics.py - http://git.io/lLljaA
BEGIN:VEVENT
DESCRIPTION:Thursday at 3:30 in Tutt Library room 323\, join CC's student court-watching group for our second meeting this fall. We'll cover the basics of our local court system and how to navigate it as an activist.\n\nhttps://today.coloradocollege.edu/events/4963
DTEND:20220929T220000Z
LOCATION:Tutt Library Room 323
DTSTART:20220929T213000Z
SUMMARY:Justice Watch- Court-Watching Orientation! 
UID:a30646dc-ff8e-4a51-b0bf-d8c5d610f524
END:VEVENT
END:VCALENDAR