BEGIN:VCALENDAR
VERSION:2.0
PRODID:ics.py - http://git.io/lLljaA
BEGIN:VEVENT
DESCRIPTION:Come visit Wednesdays+Fridays in Tutt 231\, and Sundays in Tutt 19+20 from 6:30-7:30pm to study alongside others that are studying or planning to prepare for the LSAT!\n\n\nhttps://today.coloradocollege.edu/events/4964
DTEND:20220929T013000Z
LOCATION:Tutt Library 231
DTSTART:20220929T003000Z
SUMMARY:Come join us at the LSAT Prep Group
UID:f3a6bbbb-60a0-4774-8e0f-2b5e3d479c38
END:VEVENT
END:VCALENDAR