BEGIN:VCALENDAR
VERSION:2.0
PRODID:ics.py - http://git.io/lLljaA
BEGIN:VEVENT
DESCRIPTION:NAMI will be having an open meeting to facilitate a discussion on the state of mental health at CC. All students are welcome and invited. Please join us at the Wellness Resource Center (across from the student health center within the hockey arena building) at 4pm this Thursday.\n\nhttps://today.coloradocollege.edu/events/4966
DTEND:20220929T230000Z
LOCATION:Wellness Resource Center (Within Yalich Student Services Center)
DTSTART:20220929T220000Z
SUMMARY:NAMI (National Alliance on Mental Illness) Collaborative Discussion
UID:17dc1e01-b915-49f0-a28c-45bda0288672
END:VEVENT
END:VCALENDAR