BEGIN:VCALENDAR
VERSION:2.0
PRODID:ics.py - http://git.io/lLljaA
BEGIN:VEVENT
DESCRIPTION:\n\nSenior Music Major Archer Carr-Engler presents his capstone on Thursday\, Sept. 29\, beginning at 3 p.m. in Packard Hall. \n\nFor more information\, contact the Music Office at (719) 389-6545 or <a href="mailto:music@coloradocollege.edu">music@coloradocollege.edu</a>. Visit <a href="https://www.coloradocollege.edu/academics/dept/music/">www.coloradocollege.edu/music</a> to learn more about the CC Music Department.\n\nhttps://today.coloradocollege.edu/events/4969
DTEND:20220929T220000Z
LOCATION:Packard Performance Hall
DTSTART:20220929T210000Z
SUMMARY:Senior Music Major Capstone Presentation
UID:87afd819-26a9-4b47-8880-a488b3503082
END:VEVENT
END:VCALENDAR