BEGIN:VCALENDAR
VERSION:2.0
PRODID:ics.py - http://git.io/lLljaA
BEGIN:VEVENT
DESCRIPTION:Join us in cleaning up the Student Farm as we head into 3rd block!\n\nhttps://today.coloradocollege.edu/events/4992
DTEND:20221023T210000Z
LOCATION:The Student Farm
DTSTART:20221023T190000Z
SUMMARY:Farm Maintenance Day
UID:165de598-7f6b-4a41-b670-f33d15216409
END:VEVENT
END:VCALENDAR