BEGIN:VCALENDAR
VERSION:2.0
PRODID:ics.py - http://git.io/lLljaA
BEGIN:VEVENT
DESCRIPTION:Bring Your Own Mug to have tea\, study\, and hang out! ASU will be hosting blockly study/hang outs open to all affinities! This event is not open to the general public.  https://www.coloradocollege.edu/newsevents/calendar/details.html?EventID=51040&amp\;booking=7SEQUENCE:0\n\nhttps://today.coloradocollege.edu/events/5237
DTEND:20221125T040000Z
LOCATION: - 
DTSTART:20221125T020000Z
SUMMARY:BYOM Affinity Study/Hang Out
UID:1d95cc86-dba5-48d4-9590-10e42ea4cd45
END:VEVENT
END:VCALENDAR