BEGIN:VCALENDAR
VERSION:2.0
PRODID:ics.py - http://git.io/lLljaA
BEGIN:VEVENT
DESCRIPTION:You are invited to join Allen Mose\, Sr.\, Dine' Nation from Arizona\, for a smudging ceremony.  Smudging is an Indigenous/Native American spiritual practice for purification\, balance\, and focus. Allen Mose\, Sr. is an artist and educator.\n\nhttps://today.coloradocollege.edu/events/5302
DTEND:20221024T143000Z
LOCATION:Labyrinth
DTSTART:20221024T140000Z
SUMMARY:Smudging & Blessing Ceremony
UID:2e82776c-a793-4074-a97b-3cdee5dd4947
END:VEVENT
END:VCALENDAR