BEGIN:VCALENDAR
VERSION:2.0
PRODID:ics.py - http://git.io/lLljaA
BEGIN:VEVENT
DESCRIPTION:\n\nThe "Pause Café" is back ! Practise your French\, enjoy some french snacks and have fun !\n\nEvery Monday\, from 2pm to 3pm at the Haskell House (French House)\n\nhttps://today.coloradocollege.edu/events/5352
DTEND:20221024T210000Z
LOCATION:Haskell House
DTSTART:20221024T200000Z
SUMMARY:PAUSE CAFE IS BACK ☕️🇫🇷
UID:d33c3357-ae8f-40d5-b931-0849bcbe7650
END:VEVENT
END:VCALENDAR