BEGIN:VCALENDAR
VERSION:2.0
PRODID:ics.py - http://git.io/lLljaA
BEGIN:VEVENT
DESCRIPTION:Join us for an informal performance of original songs\, created this block by MU275: Creative Workshop songwriting students\, and performed in an intimate club-like setting.\n\nThis event is free and open to the general public. This event is open to the general public.  https://www.coloradocollege.edu/newsevents/calendar/details.html?EventID=51458&amp\;booking=1SEQUENCE:0\n\nhttps://today.coloradocollege.edu/events/5567
DTEND:20221116T033000Z
LOCATION:FAC Music Room - inside the Fine Arts Center\, 30 W. Dale St.
DTSTART:20221116T023000Z
SUMMARY:Song Celebration:  A Performance by the Students of MU275 Songwriting: Creative Workshop
UID:fb3f2dcb-a686-4933-a175-4d2ff29e129f
END:VEVENT
END:VCALENDAR