BEGIN:VCALENDAR
VERSION:2.0
PRODID:ics.py - http://git.io/lLljaA
BEGIN:VEVENT
DESCRIPTION:Tuesday\, November 15 - 7:00 PM - Screening Room\nJoin Film and Media Studies as we screen student projects from the Block 3 Advanced Filmmaking course.\n\nhttps://today.coloradocollege.edu/events/5611
DTEND:20221116T033000Z
LOCATION:Cornerstone 131 (Screening Room)
DTSTART:20221116T020000Z
SUMMARY:Student Film Screening - Advanced Filmmaking
UID:1062caf2-2bd1-4a5b-84e9-a3298a2c0f33
END:VEVENT
END:VCALENDAR