BEGIN:VCALENDAR
VERSION:2.0
PRODID:ics.py - http://git.io/lLljaA
BEGIN:VEVENT
DESCRIPTION:\n\nhttps://today.coloradocollege.edu/events/5622
DTEND:20221116T040000Z
LOCATION:Windom House (1132 N.Cascade Ave)
DTSTART:20221116T020000Z
SUMMARY:🎤 Karaoke Study Break🎤 
UID:a1a8a67c-024e-4ec5-bf5b-bd185ecec792
END:VEVENT
END:VCALENDAR