BEGIN:VCALENDAR
VERSION:2.0
PRODID:ics.py - http://git.io/lLljaA
BEGIN:VEVENT
DESCRIPTION:Pause Café is back ! Practise your French\, enjoy some french snacks and have fun ☕️🇫🇷\n\nEvery Monday\, from 2pm to 3pm at the Haskell House (French House)\n\nhttps://today.coloradocollege.edu/events/5676
DTEND:20221128T220000Z
LOCATION:Haskell House (French house)
DTSTART:20221128T210000Z
SUMMARY:Pause Café is back ☕️🇫🇷
UID:ed14b8bc-91ae-49e8-95f2-fa4ec4f5273f
END:VEVENT
END:VCALENDAR