BEGIN:VCALENDAR
VERSION:2.0
PRODID:ics.py - http://git.io/lLljaA
BEGIN:VEVENT
DESCRIPTION:Ready to release\, embodying your block 4\, getting your groove on? Embrace a moment of spontaneity and pause this third week. Join us TODAY  Wednesday 12/14 from 4:00-5:30 p.m.  Stay for 5 minutes or the whole time. Sponsored by the Chaplain's Office.\n\n\nhttps://today.coloradocollege.edu/events/5773
DTEND:20221215T003000Z
LOCATION:Shove Memorial Chapel
DTSTART:20221214T230000Z
SUMMARY:Spontaneous Dance Party TODAY 4p.m.
UID:d02612da-e4c6-409c-a862-31be3e970e82
END:VEVENT
END:VCALENDAR