BEGIN:VCALENDAR
VERSION:2.0
PRODID:ics.py - http://git.io/lLljaA
BEGIN:VEVENT
DESCRIPTION:Privet! Today\, join us at the Russian House at 3:30 pm for a show-and-tell presentation by Mark Warshaw: Russian Miniature Lacquer Art. Mark will bring his collection of Russian lacquer boxes and tell us about this art tradition. You will take a closer look at the art and examine it yourself.\n\nThe presentation will be in English\, all are welcome! As always\, there will be tea and pastries. \n\nmglukhova@coloradocollege.edu\n\nhttps://today.coloradocollege.edu/events/6594
DTEND:20230511T233000Z
LOCATION:Russian House
DTSTART:20230511T213000Z
SUMMARY:Today's Russian Tea: Russian Miniature Lacquer Art Collection
UID:5c9ea66d-df9f-4696-a86e-54eba9ed966a
END:VEVENT
END:VCALENDAR