BEGIN:VCALENDAR
VERSION:2.0
PRODID:ics.py - http://git.io/lLljaA
BEGIN:VEVENT
DESCRIPTION:This student workshop will explore the following questions:\n \n\n(1) What do we mean by a “system” and “systemic change”?\n(2) How might I apply the tools of systems-level thinking and root cause analysis to my areas of interest?\n \nThis series is student-facing\, and also open to the full campus community.  Along with students\, all staff and faculty are invited to come learn about changemaking\, gain insight into the work of the CCE\, and connect with the community partners who co-facilitate these spaces.\n\n<a href="https://apps.ideal-logic.com/cce?key=29L66-D685_K9KH-5PTF_5973edbe1591">Register here</a>.  RSVPs encouraged though not required.  \n \nFaculty and staff\, please encourage students to join us!\n\nhttps://today.coloradocollege.edu/events/7985
DTEND:20241030T230000Z
LOCATION:Hybl Community Center Classroom
DTSTART:20241030T213000Z
SUMMARY:Systems-Level Thinking and Root Cause Analysis (CCE Changemaker Workshop)
UID:d5740e5a-ee3e-4313-8166-96a494c1251b
END:VEVENT
END:VCALENDAR