BEGIN:VCALENDAR
VERSION:2.0
PRODID:ics.py - http://git.io/lLljaA
BEGIN:VEVENT
DESCRIPTION:\n\nCome have some pizza 🍕 and learn more about the CC-approved partner program study abroad with Syracuse University in <a href="https://suabroad.syr.edu/destinations/florence-italy">Florence\, Italy</a> and <a href="https://suabroad.syr.edu/destinations/strasbourg-france">Strasbourg\, France</a>! Rhonda Chiles from Syracuse will be on campus to answer questions\, tell you more about these two popular semester study abroad programs\, and help with your application. \n\nSyracuse Strasbourg has an amazing connection for students to intern at the Council of Europe\, and they also offer some unique academic tracks: an Engineering semester program in the Fall\, the option to take classes at the Sciences Po campus in Strasbourg\, in addition to the traditional Syracuse Strasbourg Center and its range of courses.\n\nSyracuse Florence offers a range of courses at their Florence Center --including Economics\, Literature\, History\, Political Science\, Philosophy\, Psychology\, and more -- as well as focused programs in Architecture\, Design\, Studio Arts\, Intensive Italian Immersion\, and an Engineering program (in the Spring). Florence will also be rolling out a new program specifically for student athletes studying abroad\, so if you are an athlete\, please come learn more!\n\nStudents should <a href="https://www.coloradocollege.edu/offices/globalandfieldstudy/global-education/semesters-off-campus/application-process.html">apply in Summit</a> and then on the Syracuse website for the Florence &amp\; Strasbourg programs\, as they can fill in advance of published deadlines. <a href="https://www.coloradocollege.edu/offices/globalandfieldstudy/global-education/semesters-off-campus/financial-aid-and-billing.html">Financial Aid</a> transfers to this CC partner program\, and you may apply in Summit for <a href="https://www.coloradocollege.edu/offices/globalandfieldstudy/global-education/semesters-off-campus/credit-transfer/">credits to transfer</a> towards your CC degree requirements. \n\nSee the <a href="https://www.coloradocollege.edu/offices/globalandfieldstudy/global-education/semesters-off-campus/index.html">CC Global Education</a> website for much more information/answers to FAQs related to studying abroad.\n\nhttps://today.coloradocollege.edu/events/8035
DTEND:20260130T003000Z
LOCATION:Worner 213
DTSTART:20260129T233000Z
SUMMARY:Syracuse Florence & Strasbourg Study Abroad - Info Session 🍕
UID:b0c81789-1e86-4ab2-b497-e56389167bab
END:VEVENT
END:VCALENDAR