BEGIN:VCALENDAR
VERSION:2.0
PRODID:ics.py - http://git.io/lLljaA
BEGIN:VEVENT
DESCRIPTION:\nCome have some pizza 🍕 and join SFS Rep Leah Pfitzinger to learn more about the very popular environmental study abroad semesters offered through The <a href="https://fieldstudies.org/">School for Field Studies (SFS)</a> \n\nSFS offers field-based environmental research semesters in twelve countries: Australia\, Bhutan\, Cambodia\, Chile\, Costa Rica\, Croatia\, Italy\, Kenya\, Panama\, Peru\, Tanzania\, and Turks &amp\; Caicos. SFS students\, faculty\, and staff live and work together at field centers around the world\, and each center offers its own distinct field-based research experience in the surrounding ecosystems. Come meet with Leah Pfitzinger from SFS to learn more about their programs.\n\n<a href="https://www.coloradocollege.edu/offices/globalandfieldstudy/global-education/semesters-off-campus/application-process.html">Apply in Summit</a> in advance of deadlines for Fall 2026 programs\, as many SFS programs can fill early. <a href="https://www.coloradocollege.edu/offices/globalandfieldstudy/global-education/semesters-off-campus/financial-aid-and-billing.html">Financial Aid</a> transfers to this CC partner program\, and you may apply in Summit for <a href="https://www.coloradocollege.edu/offices/globalandfieldstudy/global-education/semesters-off-campus/credit-transfer/">credits to transfer</a> towards your CC degree requirements. \n\nSee the <a href="https://www.coloradocollege.edu/offices/globalandfieldstudy/global-education/semesters-off-campus/index.html">CC Global Education</a> website for much more information/answers to FAQs related to studying abroad!\n\nhttps://today.coloradocollege.edu/events/8041
DTEND:20260130T010000Z
LOCATION:Worner 212
DTSTART:20260130T000000Z
SUMMARY:School for Field Studies (SFS) Environmental Study Abroad - Info Session 🍕
UID:bc9694dc-a21f-4bd4-b7ad-d3ac8dcb4cdd
END:VEVENT
END:VCALENDAR