BEGIN:VCALENDAR
VERSION:2.0
PRODID:ics.py - http://git.io/lLljaA
BEGIN:VEVENT
DESCRIPTION:Join Rōshi Sarah Bender\, of Spring Mountain Sangha and Spiritual Life Advisor for Morning Meditation and Muffins. Enjoy an opportunity to connect with oneself and find grounding in stillness before the start of the day through meditation. No experience is necessary\; all are welcome.\n\nhttps://today.coloradocollege.edu/events/8264
DTEND:20241031T142500Z
LOCATION:Shove Side Chapel
DTSTART:20241031T140000Z
SUMMARY:Morning Meditation & Muffins
UID:0168c9ba-4490-4333-bf4b-0ed81562ac01
END:VEVENT
END:VCALENDAR