BEGIN:VCALENDAR
VERSION:2.0
PRODID:ics.py - http://git.io/lLljaA
BEGIN:VEVENT
DESCRIPTION:Come to a cozy student-led conversation about life\, meaning\, and spirituality. This WEDNESDAY after class (12:15ish) in Sacred Grounds. Come for five minutes or stay for the hour. All are welcome. Lunch is provided!\n\nhttps://today.coloradocollege.edu/events/8267
DTEND:20241030T191500Z
LOCATION:Sacred Grounds
DTSTART:20241030T181500Z
SUMMARY:Cozy Lunch Conversations
UID:45c35ccb-59bc-4e4d-8c43-9bf9c621851c
END:VEVENT
END:VCALENDAR