BEGIN:VCALENDAR
VERSION:2.0
PRODID:ics.py - http://git.io/lLljaA
BEGIN:VEVENT
DESCRIPTION:Join us for a Tailgate before the City of Champions Cup Game at Wiedner Field on Wednesday\, October 30th from 3-5pm. There will be food\, lawn games\, pumpkin painting\, and poster making! \n\nFree shuttle to Wiedner Field starts at 5:15pm for the 6pm Women's Soccer Game vs. Air Force Academy. RSVP for the shuttle <a href="https://www.signupgenius.com/go/10C0C4BA5A62CA6F8C07-52587809-sign">here</a>!\n\nFirst 100 students get voucher for hot chocolate &amp\; popcorn at the Soccer Game!\n\n\n\nhttps://today.coloradocollege.edu/events/8275
DTEND:20241030T230000Z
LOCATION:Worner Quad
DTSTART:20241030T210000Z
SUMMARY:Soccer Tailgate
UID:ead8e62c-bec7-4053-bc8d-42275ffd4a10
END:VEVENT
END:VCALENDAR