BEGIN:VCALENDAR
VERSION:2.0
PRODID:ics.py - http://git.io/lLljaA
BEGIN:VEVENT
DESCRIPTION:\n\n“WE BELIEVE IN THE UNITY THAT CAN BE ACHIEVED THROUGH MUSIC AND IMAGINE OUR PROGRAMS AND PROJECTS WITH THIS IN MIND\, REDEFINING AND REIMAGINING THE CLASSICAL MUSIC EXPERIENCE.”\n-WE ARE THE CATALYST-\n<a href="https://fac-cc.my.salesforce-sites.com/ticket/#/events/a0SUY000002dOMH2A2">BUY YOUR TICKETS ONLINE</a>\nor CALL: 719-389-6552 to order over the phone.\nGeneral Admission $30\; Donors $25\; Non CC Students $5\; \nFREE with current CCID\n\nhttps://today.coloradocollege.edu/events/8277
DTEND:20241031T020000Z
LOCATION:Packard Performance Hall
DTSTART:20241031T010000Z
SUMMARY:SMF Intermezzo Series: Catalyst Quartet - Wednesday\, October 30\, 7 p.m. (Packard Hall)
UID:17277d96-9d7a-4629-9fdc-45339da557b1
END:VEVENT
END:VCALENDAR