BEGIN:VCALENDAR
VERSION:2.0
PRODID:ics.py - http://git.io/lLljaA
BEGIN:VEVENT
DESCRIPTION:Join us to learn more about El Pomar Foundation's Internship and Fellowship program here in Colorado Springs during our in-person information session! During the session\, you will hear from the program manager\, a past Intern\, and current Fellows about their personal experiences in the program and learn about what you might expect working at El Pomar Foundation.\n\nhttps://today.coloradocollege.edu/events/8292
DTEND:20241031T210000Z
LOCATION:Career Center Carriage House
DTSTART:20241031T200000Z
SUMMARY:Paid Summer Internship and Two Year Fellowship: El Pomar Foundation Information Session
UID:e50b3e63-e801-4b08-8d35-d016acb0dd4b
END:VEVENT
END:VCALENDAR