BEGIN:VCALENDAR
VERSION:2.0
PRODID:ics.py - http://git.io/lLljaA
BEGIN:VEVENT
DESCRIPTION:\n\nIn 1980\, Colorado College hosted the first national championship for women’s soccer\, two years before the NCAA\, and at a moment without a domestic professional league for competitive players. Students in the Rise of American Sport and Society courses proved with archival work that CC was central to organizing local\, regional\, and national tournaments for women players across the country at the onset of the sport. Institutional legends earned five Final Four appearances and two-national runner-up finishes\, and were awarded roughly twenty-four All American honors from 1980-1991.\n \nJoin Prof. Jamal Ratchford for an inspiring discussion with our returning CC soccer legends as they share their experiences and insights. Panelists include the founder of our legendary program in Stephen Paul\, M.D.\, All-Conference Player Judy Sondermann\, and All-Americans Karen Willoughby and Charry Morris.\n\nPanel and Q&amp\;A with CC Soccer Legends\nDate: Thursday\, October 31\nTime: 4:30 PM\nLocation: Cornerstone Screening Room (131)\n\nhttps://today.coloradocollege.edu/events/8296
DTEND:20241031T234500Z
LOCATION:Cornerstone 131 (Screening Room)
DTSTART:20241031T223000Z
SUMMARY:Returning CC Women's Soccer Legends Panel
UID:278addf8-c9a0-4e58-9659-b3ad69d9d303
END:VEVENT
END:VCALENDAR