BEGIN:VCALENDAR
VERSION:2.0
PRODID:ics.py - http://git.io/lLljaA
BEGIN:VEVENT
DESCRIPTION:Come try your hand to see if you can escape the spooky classroom! The Escape Room takes between 20 and 30 minutes\, and groups of 3-6 are suggested. No Math ability required.\n\nhttps://today.coloradocollege.edu/events/8300
DTEND:20241101T033000Z
LOCATION:Tutt Science 2nd Floor
DTSTART:20241101T013000Z
SUMMARY:Halloween Escape Room
UID:a1d15d1a-39a7-4b87-b228-c950e162d011
END:VEVENT
END:VCALENDAR