BEGIN:VCALENDAR
VERSION:2.0
PRODID:ics.py - http://git.io/lLljaA
BEGIN:VEVENT
DESCRIPTION:\n\nhttps://today.coloradocollege.edu/events/8492
DTEND:20250326T224500Z
LOCATION:Shove Side Chapel
DTSTART:20250326T220000Z
SUMMARY:Sound Healing
UID:c80be6ca-8463-4a82-bcef-bd51c8aab72a
END:VEVENT
END:VCALENDAR