BEGIN:VCALENDAR
VERSION:2.0
PRODID:ics.py - http://git.io/lLljaA
BEGIN:VEVENT
DESCRIPTION:\nCome have some pizza 🍕 and learn more about how you can study for a semester or year at <a href="https://disabroad.org/copenhagen/">DIS Copenhagen</a> or <a href="https://disabroad.org/stockholm/">DIS Stockholm</a>! \n\nDIS is a non-profit study abroad institution with locations in Copenhagen and Stockholm\, offering semester\, academic year\, and summer programs taught in English. Established in 1959\, DIS offers students enrolled in North American universities engaging and challenging coursework enriched by faculty who teach what they do\, field studies\, hands-on learning opportunities\, and study tours across Europe.\n\n<a href="https://www.coloradocollege.edu/offices/globalandfieldstudy/global-education/semesters-off-campus/application-process.html">Apply in Summit</a> by March 1 for Fall 2026 programs\, if not earlier as many popular DIS Core COurses can fill before published deadlines. <a href="https://www.coloradocollege.edu/offices/globalandfieldstudy/global-education/semesters-off-campus/financial-aid-and-billing.html">Financial Aid</a> transfers to this CC partner program\, and you may apply in Summit for <a href="https://www.coloradocollege.edu/offices/globalandfieldstudy/global-education/semesters-off-campus/credit-transfer/">credits to transfer</a> towards your CC degree requirements. \n\nSee the <a href="https://www.coloradocollege.edu/offices/globalandfieldstudy/global-education/semesters-off-campus/index.html">CC Global Education</a> website for much more information/answers to FAQs related to studying abroad!\n\nhttps://today.coloradocollege.edu/events/8542
DTEND:20260130T020000Z
LOCATION:Worner 213
DTSTART:20260130T010000Z
SUMMARY:DIS Copenhagen & Stockholm - study abroad info session w/ pizza 🍕
UID:50031bfa-13c0-437b-9e2d-8373abb96541
END:VEVENT
END:VCALENDAR