BEGIN:VCALENDAR
VERSION:2.0
PRODID:ics.py - http://git.io/lLljaA
BEGIN:VEVENT
DESCRIPTION:\n\nCome learn more about all the opportunities to study abroad/away for a semester or yearlong program! The Semesters Abroad &amp\; Away Fair will host representatives from all our CC Semesters Abroad (including linked 2-block CC Half-Semester Programs) and most of our 170+ partner programs and university options around the world will be on campus for this fair -- where will you study?\n\nThe <a href="https://www.coloradocollege.edu/offices/globalandfieldstudy/">Center for Global Education &amp\; Field Study</a>\, CC Financial Aid\, and CC Accessibility Resources will also each have a table\, as well as U.S. Passport Services\, for questions about any of those important areas that you may have on the administrative and support side of things as well. See you at the fair!\n\nhttps://today.coloradocollege.edu/events/8608
DTEND:20250903T200000Z
LOCATION:Worner Lobby
DTSTART:20250903T180000Z
SUMMARY:Semesters Abroad & Away Fair
UID:d62e9816-b104-4d50-a505-5daad2c78de1
END:VEVENT
END:VCALENDAR