BEGIN:VCALENDAR
VERSION:2.0
PRODID:ics.py - http://git.io/lLljaA
BEGIN:VEVENT
DESCRIPTION:\n\nhttps://today.coloradocollege.edu/events/8630
DTEND:20250327T193000Z
LOCATION:Sacred Grounds
DTSTART:20250327T183000Z
SUMMARY:A Spiritual Journey: From Law to Prison Chaplain
UID:b8cc7e1a-1db1-40df-b168-6a2647a1b0ff
END:VEVENT
END:VCALENDAR