BEGIN:VCALENDAR
VERSION:2.0
PRODID:ics.py - http://git.io/lLljaA
BEGIN:VEVENT
DESCRIPTION:Come to a cozy student-led conversation about life\, meaning\, and spirituality. This WEDNESDAY after class (12:15ish) in Sacred Grounds. Come for five minutes or stay for the hour. All are welcome. Lunch is provided!\n\nhttps://today.coloradocollege.edu/events/8718
DTEND:20250326T191500Z
LOCATION:Sacred Grounds
DTSTART:20250326T181500Z
SUMMARY:Shove Council
UID:b2a2214e-6df8-4494-9a35-35ead2f88c7b
END:VEVENT
END:VCALENDAR